BEGIN:VCALENDAR
VERSION:2.0
PRODID:-//Squarespace Inc/Squarespace 6//v6//EN
BEGIN:VEVENT
UID:58edc021d1758e5b594148d9@squarespace.com
DTSTAMP:20170412T055105Z
DTSTART:20171210T130000Z
DTEND:20171211T220000Z
SUMMARY:Presidents Cup Weightlifting
END:VEVENT
END:VCALENDAR
