BEGIN:VCALENDAR
VERSION:2.0
PRODID:-//Squarespace Inc/Squarespace 6//v6//EN
BEGIN:VEVENT
UID:58edbf58cd0f68da1eb5d273@squarespace.com
DTSTAMP:20170412T055008Z
DTSTART:20171210T150000Z
DTEND:20171210T200000Z
SUMMARY:Raw Strength Powerlifting Invitational
END:VEVENT
END:VCALENDAR
