BEGIN:VCALENDAR
VERSION:2.0
PRODID:-//Squarespace Inc/Squarespace 6//v6//EN
BEGIN:VEVENT
UID:58edbdaa579fb3bcea315ca0@squarespace.com
DTSTAMP:20170412T054644Z
DTSTART:20171209T120000Z
DTEND:20171209T170000Z
SUMMARY:Tasmania's Strongest Man/Woman 
END:VEVENT
END:VCALENDAR
