BEGIN:VCALENDAR
VERSION:2.0
PRODID:-//Squarespace Inc/Squarespace 6//v6//EN
BEGIN:VEVENT
UID:58edbed020099eb7fbab9f36@squarespace.com
DTSTAMP:20170412T054930Z
DTSTART:20171209T070000Z
DTEND:20171209T220000Z
SUMMARY:Affiliate Cup Final
END:VEVENT
END:VCALENDAR
